BEGIN:VCALENDAR
VERSION:2.0
PRODID:-//ChamberMaster//Event Calendar 2.0//EN
METHOD:PUBLISH
X-PUBLISHED-TTL:P3D
REFRESH-INTERVAL:P3D
CALSCALE:GREGORIAN
BEGIN:VEVENT
DTSTART:20230621T151500Z
DTEND:20230621T173000Z
X-MICROSOFT-CDO-ALLDAYEVENT:FALSE
SUMMARY:Become a Better Networker: Chamber/YP Workshop & Lunch
DESCRIPTION:Join the Chamber and Become a Better Networker by attending this 2-hour workshop! Consultant\, speaker\, and author Chris Borja will lead this workshop to help you become a stronger networker in your business and the larger community.
X-ALT-DESC;FMTTYPE=text/html:Join the Chamber and Become a Better Networker by attending this 2-hour workshop! Consultant\, speaker\, and author <a href="https://www.chrisborja.com/">Chris Borja</a> will lead this workshop to help you become a stronger networker in your business and the larger community.
LOCATION:Logan County Electric Cooperative - Community Room 1587 C.R. 32 N.\, Bellefontaine\, OH 43311
UID:e.1639.12041
SEQUENCE:3
DTSTAMP:20260424T090833Z
URL:http://members.logancountyohio.com/events/details/become-a-better-networker-chamber-yp-workshop-lunch-12041
END:VEVENT

END:VCALENDAR
