BEGIN:VCALENDAR
VERSION:2.0
PRODID:-//ChamberMaster//Event Calendar 2.0//EN
METHOD:PUBLISH
X-PUBLISHED-TTL:P3D
REFRESH-INTERVAL:P3D
CALSCALE:GREGORIAN
BEGIN:VEVENT
DTSTART:20240207T163000Z
DTEND:20240207T180000Z
X-MICROSOFT-CDO-ALLDAYEVENT:FALSE
SUMMARY:Chamber Board Meeting
DESCRIPTION:Monthly Chamber Board Meeting on the 1st Wednesday of each month from 11:30am - 1pm at the Hilliker YMCA
X-ALT-DESC;FMTTYPE=text/html:Monthly Chamber Board Meeting on the 1st Wednesday of each month from 11:30am - 1pm at the Hilliker YMCA
LOCATION:Hilliker YMCA 300 Sloan Blvd Bellefontaine\, OH 43311
UID:e.1639.11823
SEQUENCE:3
DTSTAMP:20260422T181919Z
URL:http://members.logancountyohio.com/events/details/chamber-board-meeting-02-07-2024-11823
END:VEVENT

END:VCALENDAR
