BEGIN:VCALENDAR
VERSION:2.0
PRODID:-//ChamberMaster//Event Calendar 2.0//EN
METHOD:PUBLISH
X-PUBLISHED-TTL:P3D
REFRESH-INTERVAL:P3D
CALSCALE:GREGORIAN
BEGIN:VEVENT
DTSTART:20250416T203000Z
DTEND:20250416T220000Z
X-MICROSOFT-CDO-ALLDAYEVENT:FALSE
SUMMARY:Chamber Member Mixer & After Hours
DESCRIPTION:Join the Chamber team and Ambassadors group to network with other member business representatives! Open to all new\, longstanding\, and potential members of the Logan County Chamber. Enjoy casual conversation with others over drinks and appetizers.\n\n\n\nAny pre-registered attendees will receive one free drink ticket.
X-ALT-DESC;FMTTYPE=text/html:Join the Chamber team and Ambassadors group to network with other member business representatives! Open to all new\, longstanding\, and potential members of the Logan County Chamber. Enjoy casual conversation with others over drinks and appetizers.<br />\n<br />\nAny pre-registered attendees will receive one free drink ticket.
LOCATION:Roundhouse Depot Brewing Co. 217 W. Chillicothe Ave.\, Bellefontaine
UID:e.1639.12274
SEQUENCE:3
DTSTAMP:20260423T025145Z
URL:http://members.logancountyohio.com/events/details/chamber-member-mixer-after-hours-12274
END:VEVENT

END:VCALENDAR
