BEGIN:VCALENDAR
VERSION:2.0
PRODID:-//ChamberMaster//Event Calendar 2.0//EN
METHOD:PUBLISH
X-PUBLISHED-TTL:P3D
REFRESH-INTERVAL:P3D
CALSCALE:GREGORIAN
BEGIN:VEVENT
DTSTART:20221006T120000Z
DTEND:20221006T130000Z
X-MICROSOFT-CDO-ALLDAYEVENT:FALSE
SUMMARY:First Thursday Coffee Hour
DESCRIPTION:First Thursday Coffee Hour at Native Coffee!
X-ALT-DESC;FMTTYPE=text/html:<span style="font-size:18px\;">First Thursday Coffee Hour at Native Coffee!</span>
LOCATION:Native Coffee Co. 216 W. Columbus Ave. Bellefontaine
UID:e.1639.11538
SEQUENCE:3
DTSTAMP:20260422T140923Z
URL:http://members.logancountyohio.com/events/details/first-thursday-coffee-hour-11538
END:VEVENT

END:VCALENDAR
