BEGIN:VCALENDAR
VERSION:2.0
PRODID:-//ChamberMaster//Event Calendar 2.0//EN
METHOD:PUBLISH
X-PUBLISHED-TTL:P3D
REFRESH-INTERVAL:P3D
CALSCALE:GREGORIAN
BEGIN:VEVENT
DTSTART:20221103T120000Z
DTEND:20221103T130000Z
X-MICROSOFT-CDO-ALLDAYEVENT:FALSE
SUMMARY:First Thursday Coffee Hour
DESCRIPTION:First Thursday Coffee Hour at Sweetie Pie's!
X-ALT-DESC;FMTTYPE=text/html:<span style="font-size:18px\;">First Thursday Coffee Hour at Sweetie Pie&#39\;s!</span>
LOCATION:Sweetie Pie's Baked Goods & Coffee Shop 129 N. Detroit St. West Liberty
UID:e.1639.11539
SEQUENCE:3
DTSTAMP:20260423T103406Z
URL:http://members.logancountyohio.com/events/details/first-thursday-coffee-hour-11539
END:VEVENT

END:VCALENDAR
