BEGIN:VCALENDAR
VERSION:2.0
PRODID:-//ChamberMaster//Event Calendar 2.0//EN
METHOD:PUBLISH
X-PUBLISHED-TTL:P3D
REFRESH-INTERVAL:P3D
CALSCALE:GREGORIAN
BEGIN:VEVENT
DTSTART:20221201T130000Z
DTEND:20221201T140000Z
X-MICROSOFT-CDO-ALLDAYEVENT:FALSE
SUMMARY:First Thursday Coffee Hour
DESCRIPTION:First Thursday Coffee Hour at Sweet Aromas!
X-ALT-DESC;FMTTYPE=text/html:<span style="font-size:18px\;">First Thursday Coffee Hour at Sweet Aromas!</span>
LOCATION:Sweet Aromas Coffee 120 E. Court Ave. Bellefontaine
UID:e.1639.11540
SEQUENCE:3
DTSTAMP:20260422T041402Z
URL:http://members.logancountyohio.com/events/details/first-thursday-coffee-hour-11540
END:VEVENT

END:VCALENDAR
