BEGIN:VCALENDAR
VERSION:2.0
PRODID:-//ChamberMaster//Event Calendar 2.0//EN
METHOD:PUBLISH
X-PUBLISHED-TTL:P3D
REFRESH-INTERVAL:P3D
CALSCALE:GREGORIAN
BEGIN:VEVENT
DTSTART:20230202T130000Z
DTEND:20230202T140000Z
X-MICROSOFT-CDO-ALLDAYEVENT:FALSE
SUMMARY:First Thursday Coffee Hour
DESCRIPTION:First Thursday Coffee Hour at Sweetie Pie's in West Liberty!
X-ALT-DESC;FMTTYPE=text/html:<span style="font-size:18px\;">First Thursday Coffee Hour at Sweetie Pie&#39\;s in West Liberty!</span>
LOCATION:129 N. Detroit St. West Liberty\, OH 43357
UID:e.1639.11961
SEQUENCE:3
DTSTAMP:20260421T025249Z
URL:http://members.logancountyohio.com/events/details/first-thursday-coffee-hour-11961
END:VEVENT

END:VCALENDAR
