BEGIN:VCALENDAR
VERSION:2.0
PRODID:-//ChamberMaster//Event Calendar 2.0//EN
METHOD:PUBLISH
X-PUBLISHED-TTL:P3D
REFRESH-INTERVAL:P3D
CALSCALE:GREGORIAN
BEGIN:VEVENT
DTSTART:20230302T130000Z
DTEND:20230302T140000Z
X-MICROSOFT-CDO-ALLDAYEVENT:FALSE
SUMMARY:First Thursday Coffee Hour
DESCRIPTION:First Thursday Coffee Hour at Sweet Aromas!
X-ALT-DESC;FMTTYPE=text/html:<span style="font-size:18px\;">First Thursday Coffee Hour at Sweet Aromas!</span>
LOCATION:
UID:e.1639.11962
SEQUENCE:3
DTSTAMP:20260421T090312Z
URL:http://members.logancountyohio.com/events/details/first-thursday-coffee-hour-11962
END:VEVENT

END:VCALENDAR
