BEGIN:VCALENDAR
VERSION:2.0
PRODID:-//ChamberMaster//Event Calendar 2.0//EN
METHOD:PUBLISH
X-PUBLISHED-TTL:P3D
REFRESH-INTERVAL:P3D
CALSCALE:GREGORIAN
BEGIN:VEVENT
DTSTART:20230601T120000Z
DTEND:20230601T130000Z
X-MICROSOFT-CDO-ALLDAYEVENT:FALSE
SUMMARY:First Thursday Coffee Hour: Sweet Aromas
DESCRIPTION:First Thursday Coffee Hour at Sweet Aromas!
X-ALT-DESC;FMTTYPE=text/html:<span style="font-size:18px\;">First Thursday Coffee Hour at Sweet Aromas!</span>
LOCATION:Sweet Aromas Coffee 120 E. Court Ave. Bellefontaine
UID:e.1639.12029
SEQUENCE:3
DTSTAMP:20260420T221239Z
URL:http://members.logancountyohio.com/events/details/first-thursday-coffee-hour-sweet-aromas-12029
END:VEVENT

END:VCALENDAR
