BEGIN:VCALENDAR
VERSION:2.0
PRODID:-//ChamberMaster//Event Calendar 2.0//EN
METHOD:PUBLISH
X-PUBLISHED-TTL:P3D
REFRESH-INTERVAL:P3D
CALSCALE:GREGORIAN
BEGIN:VEVENT
DTSTART:20220613T130000Z
DTEND:20220617T160000Z
X-MICROSOFT-CDO-ALLDAYEVENT:FALSE
SUMMARY:Grace Chapel VBS
DESCRIPTION:Join us for a fun-filled week of Vacation Bible School\, for age 5-8th grade! This year's theme from Answers in Genesis is Zoomerang! Returning to the Value of Life.
X-ALT-DESC;FMTTYPE=text/html:Join us for a fun-filled week of Vacation Bible School\, for age 5-8th grade! This year&#39\;s theme from Answers in Genesis is Zoomerang! Returning to the Value of Life.
LOCATION:500 Linden Street West Liberty\, OH 43357
UID:e.1639.11566
SEQUENCE:3
DTSTAMP:20260425T234036Z
URL:http://members.logancountyohio.com/events/details/grace-chapel-vbs-11566
END:VEVENT

END:VCALENDAR
