BEGIN:VCALENDAR
VERSION:2.0
PRODID:-//ChamberMaster//Event Calendar 2.0//EN
METHOD:PUBLISH
X-PUBLISHED-TTL:P3D
REFRESH-INTERVAL:P3D
CALSCALE:GREGORIAN
BEGIN:VEVENT
DTSTART:20221011T120000Z
DTEND:20221011T133000Z
X-MICROSOFT-CDO-ALLDAYEVENT:FALSE
SUMMARY:Legislative Impact Breakfast
DESCRIPTION:Our annual Legislative Breakfast this year will once again be hosted by Green Hills Community in West Liberty.  We welcome State Representative Jon Cross from the 83rd House District and Candidate for State Representative of the 85th House District Tim Barhorst.  \n\n\n\nRepresentative Cross will be presenting on his recently introduced House Bill 685 which addresses the natural gas capacity issue impacting Logan and many other Ohio counties.  His leadership on this key matter will help advance our community forward for economic development.  \n\n\n\nCandidate Barhorst will share about his goals and intentions for serving the 85th District upon being elected in November.
X-ALT-DESC;FMTTYPE=text/html:<div style="color: gray"><span style="font-size:18px\;">Our annual Legislative Breakfast this year will once again be hosted by Green Hills Community in West Liberty.&nbsp\; We welcome State Representative Jon Cross from the 83rd House District and Candidate for State Representative of the 85th House District Tim Barhorst.&nbsp\;&nbsp\;<br />\n<br />\nRepresentative Cross will be presenting on his recently introduced House Bill 685 which addresses the natural gas capacity issue impacting Logan and many other Ohio counties.&nbsp\; His leadership on this key matter will help advance our community forward for economic development.&nbsp\;&nbsp\;<br />\n<br />\nCandidate Barhorst will share about his goals and intentions for serving the 85th District upon being elected in November.</span><span _fck_bookmark="1" style="display: none">&nbsp\;</span></div>\n
LOCATION:Green Hills Community 6557 US 68 South\, West Liberty\, OH 43357.
UID:e.1639.844
SEQUENCE:3
DTSTAMP:20260422T155112Z
URL:http://members.logancountyohio.com/events/details/legislative-impact-breakfast-844
END:VEVENT

END:VCALENDAR
