BEGIN:VCALENDAR
VERSION:2.0
PRODID:-//ChamberMaster//Event Calendar 2.0//EN
METHOD:PUBLISH
X-PUBLISHED-TTL:P3D
REFRESH-INTERVAL:P3D
CALSCALE:GREGORIAN
BEGIN:VEVENT
DTSTART:20230519T154500Z
DTEND:20230519T170000Z
X-MICROSOFT-CDO-ALLDAYEVENT:FALSE
SUMMARY:Lunch & Learn: Hiring & Retaining Employees - Panel Discussion
DESCRIPTION:Join the Chamber for a Lunch & Learn tailored for our HR Group and Pursuit of Excellence Series (but open to anyone) on an important topic for nearly every employer: hiring & retaining employees.\n\n\n\nWe'll have some of our community's leaders in hiring and retention joining us for a panel discussion on their best practices to find top talent and keep that talent at your organization for the long term.\n\n\n\nPanelists include:\n\n	Justin Dinovo\, Citizens Federal Savings & Loan\n	Rob Underwood\, Indian Lake Local Schools\n	Karen Tron\, PCPI Plastics
X-ALT-DESC;FMTTYPE=text/html:Join the Chamber for a Lunch &amp\; Learn tailored for our HR Group and Pursuit of Excellence Series (but open to anyone) on an important topic for nearly every employer: hiring &amp\; retaining employees.<br />\n<br />\nWe&#39\;ll have some of our community&#39\;s leaders in hiring and retention joining us for a panel discussion on their best practices to find top talent and keep that talent at your organization for the long term.<br />\n<br />\nPanelists include:\n<ul>\n	<li>Justin Dinovo\, Citizens Federal Savings &amp\; Loan</li>\n	<li>Rob Underwood\, Indian Lake Local Schools</li>\n	<li>Karen Tron\, PCPI Plastics</li>\n</ul>\n
LOCATION:Richwood Bank\, Bellefontaine
UID:e.1639.11995
SEQUENCE:3
DTSTAMP:20260423T070429Z
URL:http://members.logancountyohio.com/events/details/lunch-learn-hiring-retaining-employees-panel-discussion-11995
END:VEVENT

END:VCALENDAR
