BEGIN:VCALENDAR
VERSION:2.0
PRODID:-//ChamberMaster//Event Calendar 2.0//EN
METHOD:PUBLISH
X-PUBLISHED-TTL:P3D
REFRESH-INTERVAL:P3D
CALSCALE:GREGORIAN
BEGIN:VEVENT
DTSTART:20230425T153000Z
DTEND:20230425T160000Z
X-MICROSOFT-CDO-ALLDAYEVENT:FALSE
SUMMARY:Ribbon Cutting: Amazon Delivery Partner Program
DESCRIPTION:Join the Chamber to celebrate the launch of the Amazon Delivery Partner Program in Bellefontaine and West Liberty!
X-ALT-DESC;FMTTYPE=text/html:Join the Chamber to celebrate the launch of the Amazon Delivery Partner Program in Bellefontaine and West Liberty!
LOCATION:Chamber office: 100 S. Main St.\, Bellefontaine
UID:e.1639.11992
SEQUENCE:3
DTSTAMP:20260419T190208Z
URL:http://members.logancountyohio.com/events/details/ribbon-cutting-amazon-delivery-partner-program-11992
END:VEVENT

END:VCALENDAR
