BEGIN:VCALENDAR
VERSION:2.0
PRODID:-//ChamberMaster//Event Calendar 2.0//EN
METHOD:PUBLISH
X-PUBLISHED-TTL:P3D
REFRESH-INTERVAL:P3D
CALSCALE:GREGORIAN
BEGIN:VEVENT
DTSTART:20220830T160000Z
DTEND:20220830T163000Z
X-MICROSOFT-CDO-ALLDAYEVENT:FALSE
SUMMARY:Ribbon Cutting: Automatic Staffing
DESCRIPTION:Join the Chamber to celebrate the new Bellefontaine offices of Automatic Staffing!
X-ALT-DESC;FMTTYPE=text/html:Join the Chamber to celebrate the new Bellefontaine offices of Automatic Staffing!
LOCATION:2725 South U.S. 68\, Bellefontaine
UID:e.1639.11933
SEQUENCE:3
DTSTAMP:20260426T014848Z
URL:http://members.logancountyohio.com/events/details/ribbon-cutting-automatic-staffing-11933
END:VEVENT

END:VCALENDAR
