BEGIN:VCALENDAR
VERSION:2.0
PRODID:-//ChamberMaster//Event Calendar 2.0//EN
METHOD:PUBLISH
X-PUBLISHED-TTL:P3D
REFRESH-INTERVAL:P3D
CALSCALE:GREGORIAN
BEGIN:VEVENT
DTSTART:20220614T160000Z
DTEND:20220614T170000Z
X-MICROSOFT-CDO-ALLDAYEVENT:FALSE
SUMMARY:Toastmasters
DESCRIPTION:Worried about your next big presentation? Toastmasters can help!\n\n	Develop better speaking and presentation skills.\n	Learn to think quickly and clearly on your feet.\n	Build strong leadership abilities.\n	Hone your listening skills.\n\nThe Toastmasters program will improve your communication skills and open doors in your personal and professional life. Instead of laboring in an academic setting or spending money on costly seminars\, you'll learn in a self-paced atmosphere of fun and fellowship.
X-ALT-DESC;FMTTYPE=text/html:Worried about your next big presentation? Toastmasters can help!\n<ul>\n	<li>Develop better speaking and presentation skills.</li>\n	<li>Learn to think quickly and clearly on your feet.</li>\n	<li>Build strong leadership abilities.</li>\n	<li>Hone your listening skills.</li>\n</ul>\nThe Toastmasters program will improve your communication skills and open doors in your personal and professional life. Instead of laboring in an academic setting or spending money on costly seminars\, you&#39\;ll learn in a self-paced atmosphere of fun and fellowship.
LOCATION:First Christian Church 215 E. Sandusky Ave.\, Bellefontaine OH 43311
UID:e.1639.11045
SEQUENCE:3
DTSTAMP:20260425T231658Z
URL:http://members.logancountyohio.com/events/details/toastmasters-06-14-2022-11045
END:VEVENT

END:VCALENDAR
