BEGIN:VCALENDAR
VERSION:2.0
PRODID:-//ChamberMaster//Event Calendar 2.0//EN
METHOD:PUBLISH
X-PUBLISHED-TTL:P3D
REFRESH-INTERVAL:P3D
CALSCALE:GREGORIAN
BEGIN:VEVENT
DTSTART:20220618T160000Z
DTEND:20220618T220000Z
X-MICROSOFT-CDO-ALLDAYEVENT:FALSE
SUMMARY:West Liberty Pride Parade
DESCRIPTION:Join us for West Liberty's second ever Pride Parade! Parade starts at Noon and ends in the Lion's Park where a celebration with vendors and performs will be held. Fun for the whole family\, come join us as we spread Love and Pride in our home Logan County!
X-ALT-DESC;FMTTYPE=text/html:Join us for West Liberty&#39\;s second ever Pride Parade! Parade starts at Noon and ends in the Lion&#39\;s Park where a celebration with vendors and performs will be held. Fun for the whole family\, come join us as we spread Love and Pride in our home Logan County!
LOCATION:Parade starts at the top of West Columbus Street (by the old high school) and ends in Lion's Park.
UID:e.1639.11578
SEQUENCE:3
DTSTAMP:20260425T035314Z
URL:http://members.logancountyohio.com/events/details/west-liberty-pride-parade-11578
END:VEVENT

END:VCALENDAR
