BEGIN:VCALENDAR
VERSION:2.0
PRODID:-//ChamberMaster//Event Calendar 2.0//EN
METHOD:PUBLISH
X-PUBLISHED-TTL:P3D
REFRESH-INTERVAL:P3D
CALSCALE:GREGORIAN
BEGIN:VEVENT
DTSTART:20221025T203000Z
DTEND:20221025T220000Z
X-MICROSOFT-CDO-ALLDAYEVENT:FALSE
SUMMARY:Young Professionals: Speed Networking After Hours
DESCRIPTION:Join community members and area young professionals for some after hours speed networking!
X-ALT-DESC;FMTTYPE=text/html:Join community members and area young professionals for some after hours speed networking!
LOCATION:Discovery Riders 1797 S.R. 47 E. Bellefontaine\, OH 43311
UID:e.1639.11942
SEQUENCE:3
DTSTAMP:20260426T003710Z
URL:http://members.logancountyohio.com/events/details/young-professionals-speed-networking-after-hours-11942
END:VEVENT

END:VCALENDAR
