BEGIN:VCALENDAR
VERSION:2.0
PRODID:-//ChamberMaster//Event Calendar 2.0//EN
METHOD:PUBLISH
X-PUBLISHED-TTL:P3D
REFRESH-INTERVAL:P3D
CALSCALE:GREGORIAN
BEGIN:VEVENT
DTSTART:20240119T170000Z
DTEND:20240119T180000Z
X-MICROSOFT-CDO-ALLDAYEVENT:FALSE
SUMMARY:YP Casual Lunch: La Playa Azul
DESCRIPTION:Join your fellow Young Professionals for a casual lunch at La Playa Azul! This is a great opportunity to connect with other YPs and share about your business or organization.\n\n\n\nLunch is on your own.
X-ALT-DESC;FMTTYPE=text/html:Join your fellow Young Professionals for a casual lunch at La Playa Azul! This is a great opportunity to connect with other YPs and share about your business or organization.<br />\n<br />\nLunch is on your own.
LOCATION:305 E. Harrison St.\, Lakeview OH 43331
UID:e.1639.12100
SEQUENCE:3
DTSTAMP:20260423T093831Z
URL:http://members.logancountyohio.com/events/details/yp-casual-lunch-la-playa-azul-12100
END:VEVENT

END:VCALENDAR
