BEGIN:VCALENDAR
VERSION:2.0
PRODID:-//ChamberMaster//Event Calendar 2.0//EN
METHOD:PUBLISH
X-PUBLISHED-TTL:P3D
REFRESH-INTERVAL:P3D
CALSCALE:GREGORIAN
BEGIN:VEVENT
DTSTART:20260501T160000Z
DTEND:20260501T163000Z
X-MICROSOFT-CDO-ALLDAYEVENT:FALSE
SUMMARY:Ribbon Cutting: The Maxwell
DESCRIPTION:Join the Chamber to celebrate the ribbon cutting\, remodel and recent opening of The Maxwell!\n\nhttps://themaxwellevents.com/
X-ALT-DESC;FMTTYPE=text/html:Join the Chamber to celebrate the ribbon cutting\, remodel and recent opening of The Maxwell!<br />\nhttps://themaxwellevents.com/
LOCATION:233 S. Main St.\, Bellefontaine
UID:e.1639.12389
SEQUENCE:3
DTSTAMP:20260420T175719Z
URL:https://members.logancountyohio.com/events/details/ribbon-cutting-the-maxwell-12389
END:VEVENT

END:VCALENDAR
